BEGIN:VCALENDAR
VERSION:2.0
PRODID:-//Eclosion13 - ECPv6.3.5//NONSGML v1.0//EN
CALSCALE:GREGORIAN
METHOD:PUBLISH
X-WR-CALNAME:Eclosion13
X-ORIGINAL-URL:https://www.eclosion13.fr
X-WR-CALDESC:évènements pour Eclosion13
REFRESH-INTERVAL;VALUE=DURATION:PT1H
X-Robots-Tag:noindex
X-PUBLISHED-TTL:PT1H
BEGIN:VTIMEZONE
TZID:Europe/Paris
BEGIN:DAYLIGHT
TZOFFSETFROM:+0100
TZOFFSETTO:+0200
TZNAME:CEST
DTSTART:20260329T010000
END:DAYLIGHT
BEGIN:STANDARD
TZOFFSETFROM:+0200
TZOFFSETTO:+0100
TZNAME:CET
DTSTART:20261025T010000
END:STANDARD
END:VTIMEZONE
BEGIN:VEVENT
DTSTART;TZID=Europe/Paris:20260326T203000
DTEND;TZID=Europe/Paris:20260326T220000
DTSTAMP:20260419T205228
CREATED:20260226T134857Z
LAST-MODIFIED:20260226T135223Z
UID:18630-1774557000-1774562400@www.eclosion13.fr
SUMMARY:MAUD REVOL QUINTET
DESCRIPTION:♦ Concert jazz / Sortie d’album\n♠ Durée : 1h15\nMaud REVOL vous invite à écouter son album CASA VERDE  à L’Oppidum !\nRemarquée pour sa créativité musicale ainsi que pour l’émotion et l’intensité qui se dégagent de ses interprétations\, Maud REVOL  propose un voyage envoûtant à travers le jazz et les musiques latines. \nLes éléments de bossa\, de samba et de baiao se mélangent avec un univers vocal marqué par la tradition des grandes voix du jazz. L’univers poétique et introspectif des compositions rappelle celui de Gretchen Parlato et affirme une touche contemporaine à travers des arrangements modernes et des improvisations audacieuses. \nDistribution\nChant | Maud REVOL\nBasse et contrebasse | Willy QUIKO\nPiano et claviers | Cathy ESCOFFIER\nGuitare | Luke DARLISON\nBatterie | Jérémi MARTINEZ \n\n| Pour en savoir plus sur Maud REVOL\, cliquez ICI
URL:https://www.eclosion13.fr/event/maud-revol-quintet-concert-jazz-scat-latin-jazz-sortie-album-2/
LOCATION:L’Oppidum\, 367 Route de Grans\, Cornillon-Confoux\, 13250\, France
CATEGORIES:Musique
ATTACH;FMTTYPE=image/webp:https://www.eclosion13.fr/wp-content/uploads/2026/02/20251210_Baptiste-Le-Quiniou_MAUD-REVOL_02-WEB.webp
END:VEVENT
END:VCALENDAR