BEGIN:VCALENDAR
VERSION:2.0
PRODID:-//Eclosion13 - ECPv6.3.5//NONSGML v1.0//EN
CALSCALE:GREGORIAN
METHOD:PUBLISH
X-ORIGINAL-URL:https://www.eclosion13.fr
X-WR-CALDESC:évènements pour Eclosion13
REFRESH-INTERVAL;VALUE=DURATION:PT1H
X-Robots-Tag:noindex
X-PUBLISHED-TTL:PT1H
BEGIN:VTIMEZONE
TZID:Europe/Paris
BEGIN:DAYLIGHT
TZOFFSETFROM:+0100
TZOFFSETTO:+0200
TZNAME:CEST
DTSTART:20260329T010000
END:DAYLIGHT
BEGIN:STANDARD
TZOFFSETFROM:+0200
TZOFFSETTO:+0100
TZNAME:CET
DTSTART:20261025T010000
END:STANDARD
END:VTIMEZONE
BEGIN:VEVENT
DTSTART;TZID=Europe/Paris:20260320T203000
DTEND;TZID=Europe/Paris:20260320T213000
DTSTAMP:20260419T203900
CREATED:20260303T154034Z
LAST-MODIFIED:20260303T154034Z
UID:18653-1774038600-1774042200@www.eclosion13.fr
SUMMARY:CLARA SFEZ
DESCRIPTION:♦ Chanson française\n♣ PAF : 11€ + adhésion \nAuteure\, compositrice et interprète\, Clara SFEZ revient au Non-Lieu de Marseille\npour un format seule en scène de voix et guitare. \nPlongez dans son univers poétique fait de rencontres\, de liens entre mondes prétendument éloignés qui grâce a sa musique communiquent et se reconnaissent.\nRéservations : 06 82 58 22 49 par SMS uniquement \n\nDistribution\nGuitare\, voix | Clara SFEZ \n\n| Pour en savoir plus sur Clara SFEZ\, cliquez  ICI
URL:https://www.eclosion13.fr/event/clara-sfez-chanson-francaise-seule-en-scene-voix-guitare/
LOCATION:Le Non-Lieu\, 67 Rue de la Palud\, Marseille\, 13006\, France
CATEGORIES:Musique
ATTACH;FMTTYPE=image/webp:https://www.eclosion13.fr/wp-content/uploads/2025/09/portrait-clara-sfez.webp
END:VEVENT
END:VCALENDAR